BEGIN:VCALENDAR
VERSION:2.0
PRODID:-//Wilbur&#039;s Wildlife
CALSCALE:GREGORIAN
METHOD:PUBLISH
X-WR-CALNAME:Wilbur&#039;s Wildlife
X-ORIGINAL-URL:https://wilburswildlife.com.au/shop/1pm-open-day-tour-5/
X-WR-CALDESC:1pm Open Day Tour
BEGIN:VEVENT
DTSTART:20190714T130000
DTEND:20190714T134500
SUMMARY:1pm Open Day Tour
DESCRIPTION:
LOCATION:51 Ormsby Road, Kudla SA 5115
END:VEVENT
END:VCALENDAR
